BEGIN:VCALENDAR
VERSION:2.0
PRODID:-//Racing Dashboards//Supercars//EN
CALSCALE:GREGORIAN
METHOD:PUBLISH
X-WR-CALNAME:Supercars Calendar 2026
X-WR-TIMEZONE:UTC
BEGIN:VEVENT
DTSTART;VALUE=DATE:20260220
DTEND;VALUE=DATE:20260223
SUMMARY:R1: DUNLOP Sydney 500
DESCRIPTION:Sydney Motorsport Park\\nSydney\\n3 races
LOCATION:Sydney Motorsport Park\, Sydney
UID:supercars-2026-r1@racingdashboards
END:VEVENT
BEGIN:VEVENT
DTSTART;VALUE=DATE:20260220
DTEND;VALUE=DATE:20260221
SUMMARY:DUNLOP Sydney 500 - Race 1
LOCATION:Sydney Motorsport Park\, Sydney
UID:supercars-2026-2418736@racingdashboards
END:VEVENT
BEGIN:VEVENT
DTSTART;VALUE=DATE:20260221
DTEND;VALUE=DATE:20260222
SUMMARY:DUNLOP Sydney 500 - Race 2
LOCATION:Sydney Motorsport Park\, Sydney
UID:supercars-2026-2418737@racingdashboards
END:VEVENT
BEGIN:VEVENT
DTSTART;VALUE=DATE:20260222
DTEND;VALUE=DATE:20260223
SUMMARY:DUNLOP Sydney 500 - Race 3
LOCATION:Sydney Motorsport Park\, Sydney
UID:supercars-2026-2418738@racingdashboards
END:VEVENT
BEGIN:VEVENT
DTSTART;VALUE=DATE:20260305
DTEND;VALUE=DATE:20260308
SUMMARY:R2: Melbourne SuperSprint
DESCRIPTION:Albert Park Circuit\\nMelbourne\\n4 races
LOCATION:Albert Park Circuit\, Melbourne
UID:supercars-2026-r2@racingdashboards
END:VEVENT
BEGIN:VEVENT
DTSTART;VALUE=DATE:20260305
DTEND;VALUE=DATE:20260306
SUMMARY:Melbourne SuperSprint - Race 4
LOCATION:Albert Park Circuit\, Melbourne
UID:supercars-2026-2418739@racingdashboards
END:VEVENT
BEGIN:VEVENT
DTSTART;VALUE=DATE:20260306
DTEND;VALUE=DATE:20260307
SUMMARY:Melbourne SuperSprint - Race 5
LOCATION:Albert Park Circuit\, Melbourne
UID:supercars-2026-2418740@racingdashboards
END:VEVENT
BEGIN:VEVENT
DTSTART;VALUE=DATE:20260307
DTEND;VALUE=DATE:20260308
SUMMARY:Melbourne SuperSprint - Race 6
LOCATION:Albert Park Circuit\, Melbourne
UID:supercars-2026-2418741@racingdashboards
END:VEVENT
BEGIN:VEVENT
DTSTART;VALUE=DATE:20260307
DTEND;VALUE=DATE:20260308
SUMMARY:Melbourne SuperSprint - Race 7
LOCATION:Albert Park Circuit\, Melbourne
UID:supercars-2026-2418742@racingdashboards
END:VEVENT
BEGIN:VEVENT
DTSTART;VALUE=DATE:20260410
DTEND;VALUE=DATE:20260413
SUMMARY:R3: ITM Taupo Super 440
DESCRIPTION:Taupo International Motorsport Park\\nBroadlands Road\, Taupō\\n3 races
LOCATION:Taupo International Motorsport Park\, Broadlands Road\, Taupō
UID:supercars-2026-r3@racingdashboards
END:VEVENT
BEGIN:VEVENT
DTSTART;VALUE=DATE:20260410
DTEND;VALUE=DATE:20260411
SUMMARY:ITM Taupo Super 440 - Race 8
LOCATION:Taupo International Motorsport Park\, Broadlands Road\, Taupō
UID:supercars-2026-2418743@racingdashboards
END:VEVENT
BEGIN:VEVENT
DTSTART;VALUE=DATE:20260411
DTEND;VALUE=DATE:20260412
SUMMARY:ITM Taupo Super 440 - Race 9
LOCATION:Taupo International Motorsport Park\, Broadlands Road\, Taupō
UID:supercars-2026-2418744@racingdashboards
END:VEVENT
BEGIN:VEVENT
DTSTART;VALUE=DATE:20260412
DTEND;VALUE=DATE:20260413
SUMMARY:ITM Taupo Super 440 - Race 10
LOCATION:Taupo International Motorsport Park\, Broadlands Road\, Taupō
UID:supercars-2026-2418745@racingdashboards
END:VEVENT
BEGIN:VEVENT
DTSTART;VALUE=DATE:20260417
DTEND;VALUE=DATE:20260420
SUMMARY:R4: ITM Christchurch Super 440
DESCRIPTION:Ruapuna Raceway\\nChristchurch\\n3 races
LOCATION:Ruapuna Raceway\, Christchurch
UID:supercars-2026-r4@racingdashboards
END:VEVENT
BEGIN:VEVENT
DTSTART;VALUE=DATE:20260417
DTEND;VALUE=DATE:20260418
SUMMARY:ITM Christchurch Super 440 - Race 11
LOCATION:Ruapuna Raceway\, Christchurch
UID:supercars-2026-2419052@racingdashboards
END:VEVENT
BEGIN:VEVENT
DTSTART;VALUE=DATE:20260418
DTEND;VALUE=DATE:20260419
SUMMARY:ITM Christchurch Super 440 - Race 12
LOCATION:Ruapuna Raceway\, Christchurch
UID:supercars-2026-2419053@racingdashboards
END:VEVENT
BEGIN:VEVENT
DTSTART;VALUE=DATE:20260419
DTEND;VALUE=DATE:20260420
SUMMARY:ITM Christchurch Super 440 - Race 13
LOCATION:Ruapuna Raceway\, Christchurch
UID:supercars-2026-2419054@racingdashboards
END:VEVENT
BEGIN:VEVENT
DTSTART;VALUE=DATE:20260522
DTEND;VALUE=DATE:20260525
SUMMARY:R5: Tasmania Super 440
DESCRIPTION:Symmons Plains Raceway\\nLaunceston\, Tasmania\\n3 races
LOCATION:Symmons Plains Raceway\, Launceston\, Tasmania
UID:supercars-2026-r5@racingdashboards
END:VEVENT
BEGIN:VEVENT
DTSTART;VALUE=DATE:20260522
DTEND;VALUE=DATE:20260523
SUMMARY:Tasmania Super 440 - Race 14
LOCATION:Symmons Plains Raceway\, Launceston\, Tasmania
UID:supercars-2026-2419055@racingdashboards
END:VEVENT
BEGIN:VEVENT
DTSTART;VALUE=DATE:20260523
DTEND;VALUE=DATE:20260524
SUMMARY:Tasmania Super 440 - Race 15
LOCATION:Symmons Plains Raceway\, Launceston\, Tasmania
UID:supercars-2026-2419056@racingdashboards
END:VEVENT
BEGIN:VEVENT
DTSTART;VALUE=DATE:20260524
DTEND;VALUE=DATE:20260525
SUMMARY:Tasmania Super 440 - Race 16
LOCATION:Symmons Plains Raceway\, Launceston\, Tasmania
UID:supercars-2026-2419057@racingdashboards
END:VEVENT
BEGIN:VEVENT
DTSTART;VALUE=DATE:20260619
DTEND;VALUE=DATE:20260622
SUMMARY:R6: betr Darwin Triple Crown
DESCRIPTION:Hidden Valley Raceway\\nDarwin\\n3 races
LOCATION:Hidden Valley Raceway\, Darwin
UID:supercars-2026-r6@racingdashboards
END:VEVENT
BEGIN:VEVENT
DTSTART;VALUE=DATE:20260619
DTEND;VALUE=DATE:20260620
SUMMARY:betr Darwin Triple Crown - Race 17
LOCATION:Hidden Valley Raceway\, Darwin
UID:supercars-2026-2419058@racingdashboards
END:VEVENT
BEGIN:VEVENT
DTSTART;VALUE=DATE:20260620
DTEND;VALUE=DATE:20260621
SUMMARY:betr Darwin Triple Crown - Race 18
LOCATION:Hidden Valley Raceway\, Darwin
UID:supercars-2026-2419059@racingdashboards
END:VEVENT
BEGIN:VEVENT
DTSTART;VALUE=DATE:20260621
DTEND;VALUE=DATE:20260622
SUMMARY:betr Darwin Triple Crown - Race 19
LOCATION:Hidden Valley Raceway\, Darwin
UID:supercars-2026-2419060@racingdashboards
END:VEVENT
BEGIN:VEVENT
DTSTART;VALUE=DATE:20260710
DTEND;VALUE=DATE:20260713
SUMMARY:R7: NTI Townsville 500
DESCRIPTION:Reid Park Street Circuit\\nTownsville\, Queensland\\n3 races
LOCATION:Reid Park Street Circuit\, Townsville\, Queensland
UID:supercars-2026-r7@racingdashboards
END:VEVENT
BEGIN:VEVENT
DTSTART;VALUE=DATE:20260710
DTEND;VALUE=DATE:20260711
SUMMARY:NTI Townsville 500 - Race 20
LOCATION:Reid Park Street Circuit\, Townsville\, Queensland
UID:supercars-2026-2419061@racingdashboards
END:VEVENT
BEGIN:VEVENT
DTSTART;VALUE=DATE:20260711
DTEND;VALUE=DATE:20260712
SUMMARY:NTI Townsville 500 - Race 21
LOCATION:Reid Park Street Circuit\, Townsville\, Queensland
UID:supercars-2026-2419062@racingdashboards
END:VEVENT
BEGIN:VEVENT
DTSTART;VALUE=DATE:20260712
DTEND;VALUE=DATE:20260713
SUMMARY:NTI Townsville 500 - Race 22
LOCATION:Reid Park Street Circuit\, Townsville\, Queensland
UID:supercars-2026-2419063@racingdashboards
END:VEVENT
BEGIN:VEVENT
DTSTART;VALUE=DATE:20260731
DTEND;VALUE=DATE:20260803
SUMMARY:R8: Perth Super 440
DESCRIPTION:Wanneroo Raceway\\nPerth\\n3 races
LOCATION:Wanneroo Raceway\, Perth
UID:supercars-2026-r8@racingdashboards
END:VEVENT
BEGIN:VEVENT
DTSTART;VALUE=DATE:20260731
DTEND;VALUE=DATE:20260801
SUMMARY:Perth Super 440 - Race 23
LOCATION:Wanneroo Raceway\, Perth
UID:supercars-2026-2419064@racingdashboards
END:VEVENT
BEGIN:VEVENT
DTSTART;VALUE=DATE:20260801
DTEND;VALUE=DATE:20260802
SUMMARY:Perth Super 440 - Race 24
LOCATION:Wanneroo Raceway\, Perth
UID:supercars-2026-2419065@racingdashboards
END:VEVENT
BEGIN:VEVENT
DTSTART;VALUE=DATE:20260802
DTEND;VALUE=DATE:20260803
SUMMARY:Perth Super 440 - Race 25
LOCATION:Wanneroo Raceway\, Perth
UID:supercars-2026-2419066@racingdashboards
END:VEVENT
BEGIN:VEVENT
DTSTART;VALUE=DATE:20260821
DTEND;VALUE=DATE:20260824
SUMMARY:R9: Century Batteries Ipswich Super 440
DESCRIPTION:Queensland Raceway\\nIpswich\, Queensland\\n3 races
LOCATION:Queensland Raceway\, Ipswich\, Queensland
UID:supercars-2026-r9@racingdashboards
END:VEVENT
BEGIN:VEVENT
DTSTART;VALUE=DATE:20260821
DTEND;VALUE=DATE:20260822
SUMMARY:Century Batteries Ipswich Super 440 - Race 26
LOCATION:Queensland Raceway\, Ipswich\, Queensland
UID:supercars-2026-2419067@racingdashboards
END:VEVENT
BEGIN:VEVENT
DTSTART;VALUE=DATE:20260822
DTEND;VALUE=DATE:20260823
SUMMARY:Century Batteries Ipswich Super 440 - Race 27
LOCATION:Queensland Raceway\, Ipswich\, Queensland
UID:supercars-2026-2419068@racingdashboards
END:VEVENT
BEGIN:VEVENT
DTSTART;VALUE=DATE:20260823
DTEND;VALUE=DATE:20260824
SUMMARY:Century Batteries Ipswich Super 440 - Race 28
LOCATION:Queensland Raceway\, Ipswich\, Queensland
UID:supercars-2026-2419069@racingdashboards
END:VEVENT
BEGIN:VEVENT
DTSTART;VALUE=DATE:20260913
DTEND;VALUE=DATE:20260914
SUMMARY:R10: AirTouch 500 at The Bend
DESCRIPTION:The Bend Motorsport Park\\nTailem Bend\\n1 races
LOCATION:The Bend Motorsport Park\, Tailem Bend
UID:supercars-2026-r10@racingdashboards
END:VEVENT
BEGIN:VEVENT
DTSTART;VALUE=DATE:20260913
DTEND;VALUE=DATE:20260914
SUMMARY:AirTouch 500 at The Bend - Race 29
LOCATION:The Bend Motorsport Park\, Tailem Bend
UID:supercars-2026-2419070@racingdashboards
END:VEVENT
BEGIN:VEVENT
DTSTART;VALUE=DATE:20261011
DTEND;VALUE=DATE:20261012
SUMMARY:R11: Repco Bathurst 1000
DESCRIPTION:Mount Panorama Circuit\\nBathurst\\n1 races
LOCATION:Mount Panorama Circuit\, Bathurst
UID:supercars-2026-r11@racingdashboards
END:VEVENT
BEGIN:VEVENT
DTSTART;VALUE=DATE:20261011
DTEND;VALUE=DATE:20261012
SUMMARY:Repco Bathurst 1000 - Race 30
LOCATION:Mount Panorama Circuit\, Bathurst
UID:supercars-2026-2419071@racingdashboards
END:VEVENT
BEGIN:VEVENT
DTSTART;VALUE=DATE:20261024
DTEND;VALUE=DATE:20261026
SUMMARY:R12: Boost Mobile Gold Coast 500
DESCRIPTION:Surfers Paradise Street Circuit\\nSurfers Paradise\, Queensland\\n2 races
LOCATION:Surfers Paradise Street Circuit\, Surfers Paradise\, Queensland
UID:supercars-2026-r12@racingdashboards
END:VEVENT
BEGIN:VEVENT
DTSTART;VALUE=DATE:20261024
DTEND;VALUE=DATE:20261025
SUMMARY:Boost Mobile Gold Coast 500 - Race 31
LOCATION:Surfers Paradise Street Circuit\, Surfers Paradise\, Queensland
UID:supercars-2026-2419073@racingdashboards
END:VEVENT
BEGIN:VEVENT
DTSTART;VALUE=DATE:20261025
DTEND;VALUE=DATE:20261026
SUMMARY:Boost Mobile Gold Coast 500 - Race 32
LOCATION:Surfers Paradise Street Circuit\, Surfers Paradise\, Queensland
UID:supercars-2026-2419074@racingdashboards
END:VEVENT
BEGIN:VEVENT
DTSTART;VALUE=DATE:20261114
DTEND;VALUE=DATE:20261116
SUMMARY:R13: Penrite Oil Sandown 500
DESCRIPTION:Sandown Raceway\\nSpringvale\, Victoria\\n2 races
LOCATION:Sandown Raceway\, Springvale\, Victoria
UID:supercars-2026-r13@racingdashboards
END:VEVENT
BEGIN:VEVENT
DTSTART;VALUE=DATE:20261114
DTEND;VALUE=DATE:20261115
SUMMARY:Penrite Oil Sandown 500 - Race 33
LOCATION:Sandown Raceway\, Springvale\, Victoria
UID:supercars-2026-2419075@racingdashboards
END:VEVENT
BEGIN:VEVENT
DTSTART;VALUE=DATE:20261115
DTEND;VALUE=DATE:20261116
SUMMARY:Penrite Oil Sandown 500 - Race 34
LOCATION:Sandown Raceway\, Springvale\, Victoria
UID:supercars-2026-2419076@racingdashboards
END:VEVENT
BEGIN:VEVENT
DTSTART;VALUE=DATE:20261127
DTEND;VALUE=DATE:20261130
SUMMARY:R14: Adelaide Grand Final
DESCRIPTION:Adelaide Street Circuit\\nAdelaide\\n3 races
LOCATION:Adelaide Street Circuit\, Adelaide
UID:supercars-2026-r14@racingdashboards
END:VEVENT
BEGIN:VEVENT
DTSTART;VALUE=DATE:20261127
DTEND;VALUE=DATE:20261128
SUMMARY:Adelaide Grand Final - Race 35
LOCATION:Adelaide Street Circuit\, Adelaide
UID:supercars-2026-2419077@racingdashboards
END:VEVENT
BEGIN:VEVENT
DTSTART;VALUE=DATE:20261128
DTEND;VALUE=DATE:20261129
SUMMARY:Adelaide Grand Final - Race 36
LOCATION:Adelaide Street Circuit\, Adelaide
UID:supercars-2026-2419078@racingdashboards
END:VEVENT
BEGIN:VEVENT
DTSTART;VALUE=DATE:20261129
DTEND;VALUE=DATE:20261130
SUMMARY:Adelaide Grand Final - Race 37
LOCATION:Adelaide Street Circuit\, Adelaide
UID:supercars-2026-2419079@racingdashboards
END:VEVENT
END:VCALENDAR